BEGIN:VCALENDAR
VERSION:2.0
PRODID:-//Hamilton District Christian High School - ECPv5.12.4//NONSGML v1.0//EN
CALSCALE:GREGORIAN
METHOD:PUBLISH
X-WR-CALNAME:Hamilton District Christian High School
X-ORIGINAL-URL:https://old.hdch.org
X-WR-CALDESC:Events for Hamilton District Christian High School
BEGIN:VTIMEZONE
TZID:America/Toronto
BEGIN:DAYLIGHT
TZOFFSETFROM:-0500
TZOFFSETTO:-0400
TZNAME:EDT
DTSTART:20190310T070000
END:DAYLIGHT
BEGIN:STANDARD
TZOFFSETFROM:-0400
TZOFFSETTO:-0500
TZNAME:EST
DTSTART:20191103T060000
END:STANDARD
END:VTIMEZONE
BEGIN:VEVENT
DTSTART;TZID=America/Toronto:20191029T190000
DTEND;TZID=America/Toronto:20191029T203000
DTSTAMP:20260424T085743
CREATED:20190915T141709Z
LAST-MODIFIED:20190916T145942Z
UID:16859-1572375600-1572381000@old.hdch.org
SUMMARY:Post-Secondary Info Night
DESCRIPTION:Information Evening for Parents of Graduating Students\nStudent Services is pleased to host the popular annual Information Evening for Parents of Graduating Students. This evening event is designed to help parents negotiate the sometimes confusing process of post-secondary planning and application. \nWe’ll address the following topics: \n \nWe’ll be as practical as possible at this event; we’ll get some hands-on experience with applications and we’ll talk about next steps. \nThis event is primarily designed for parents of this year’s graduates; we’ll be inviting grade 11 parents to a broader\, “big-sky” planning conversation in the spring.
URL:https://old.hdch.org/event/post-secondary-info/
LOCATION:Hamilton District Christian High\, 92 Glancaster Road\, Ancaster\, Ontario\, L9G3K9\, Canada
ATTACH;FMTTYPE=image/png:https://old.hdch.org/wp-content/uploads/2017/09/UniversityApp.png
ORGANIZER;CN="James%20Apers":MAILTO:japers@hdch.org
END:VEVENT
END:VCALENDAR