BEGIN:VCALENDAR
VERSION:2.0
PRODID:-//Hamilton District Christian High School - ECPv5.12.4//NONSGML v1.0//EN
CALSCALE:GREGORIAN
METHOD:PUBLISH
X-WR-CALNAME:Hamilton District Christian High School
X-ORIGINAL-URL:https://old.hdch.org
X-WR-CALDESC:Events for Hamilton District Christian High School
BEGIN:VTIMEZONE
TZID:America/Toronto
BEGIN:DAYLIGHT
TZOFFSETFROM:-0500
TZOFFSETTO:-0400
TZNAME:EDT
DTSTART:20190310T070000
END:DAYLIGHT
BEGIN:STANDARD
TZOFFSETFROM:-0400
TZOFFSETTO:-0500
TZNAME:EST
DTSTART:20191103T060000
END:STANDARD
END:VTIMEZONE
BEGIN:VEVENT
DTSTART;TZID=America/Toronto:20190510T190000
DTEND;TZID=America/Toronto:20190510T213000
DTSTAMP:20260425T081721
CREATED:20190417T151100Z
LAST-MODIFIED:20190508T160840Z
UID:49262-1557514800-1557523800@old.hdch.org
SUMMARY:Mary Poppins
DESCRIPTION:Join us for our Spring Musical\nEveryone’s favorite practically perfect nanny takes the stage in this Supercalifragilisticexpialidocious musical adventure. \nMark your calendar for this special event.\nMay 9\, 10\, 11\, 15\, 16th  2019 \nCurtain\n7:oo PM \nGeneral Admission Seating\nDoors open at 6:30 \nTickets Available Online and at the Door\n$12 ~ Individuals  |  $40 ~ Family Rate \nNote: Advance tickets were only available until May 8 at 12 noon. Tickets are still available to purchase at the door for the May 9\, 10 and 11 show.
URL:https://old.hdch.org/event/mary-poppins0510/
LOCATION:Hamilton District Christian High\, 92 Glancaster Road\, Ancaster\, Ontario\, L9G3K9\, Canada
ATTACH;FMTTYPE=image/jpeg:https://old.hdch.org/wp-content/uploads/2018/12/MARY_POPPINS_Title4C.jpg
END:VEVENT
END:VCALENDAR