BEGIN:VCALENDAR
VERSION:2.0
PRODID:-//Hamilton District Christian High School - ECPv5.12.4//NONSGML v1.0//EN
CALSCALE:GREGORIAN
METHOD:PUBLISH
X-WR-CALNAME:Hamilton District Christian High School
X-ORIGINAL-URL:https://old.hdch.org
X-WR-CALDESC:Events for Hamilton District Christian High School
BEGIN:VTIMEZONE
TZID:America/Toronto
BEGIN:DAYLIGHT
TZOFFSETFROM:-0500
TZOFFSETTO:-0400
TZNAME:EDT
DTSTART:20190310T070000
END:DAYLIGHT
BEGIN:STANDARD
TZOFFSETFROM:-0400
TZOFFSETTO:-0500
TZNAME:EST
DTSTART:20191103T060000
END:STANDARD
END:VTIMEZONE
BEGIN:VEVENT
DTSTART;TZID=America/Toronto:20191119T090000
DTEND;TZID=America/Toronto:20191119T170000
DTSTAMP:20260424T061006
CREATED:20191011T190106Z
LAST-MODIFIED:20191118T144758Z
UID:16178-1574154000-1574182800@old.hdch.org
SUMMARY:Junior Girls A SOSSA Basketball
DESCRIPTION:Junior Girls ‘A’ SOSSA Basketball – November 19\, 2019\nWe welcome all participating teams to this SOSSA event. Check this site often for the most up to date tournament information. \nVisit the Tournament Page for full details and Live Results \nTournament Page\n\n\nNo Gate Fee\n\n\n\n\nTime\nGame\nZones Champions\nTeams\n\n\n9:00am\nSemifinals\nZone 1 vs. Zone 4\nHamilton District Christian High vs. Thorold\n\n\n10:30am\nSemifinals\nZone 2 vs. Zone 3\nSt. Francis vs. McKinnon Park Secondary\n\n\n3:00pm\nFinals\nWinner vs. Winner\n\n\n\n\n 
URL:https://old.hdch.org/event/junior-girls-sossa-basketball/
LOCATION:Hamilton District Christian High\, 92 Glancaster Road\, Ancaster\, Ontario\, L9G3K9\, Canada
ATTACH;FMTTYPE=image/jpeg:https://old.hdch.org/wp-content/uploads/2015/09/Gym.jpg
ORGANIZER;CN="Brad%20Heidbuurt":MAILTO:bheidbuurt@hdch.org
END:VEVENT
END:VCALENDAR