BEGIN:VCALENDAR
VERSION:2.0
PRODID:-//Hamilton District Christian High School - ECPv5.12.4//NONSGML v1.0//EN
CALSCALE:GREGORIAN
METHOD:PUBLISH
X-WR-CALNAME:Hamilton District Christian High School
X-ORIGINAL-URL:https://old.hdch.org
X-WR-CALDESC:Events for Hamilton District Christian High School
BEGIN:VTIMEZONE
TZID:America/Toronto
BEGIN:DAYLIGHT
TZOFFSETFROM:-0500
TZOFFSETTO:-0400
TZNAME:EDT
DTSTART:20150308T070000
END:DAYLIGHT
BEGIN:STANDARD
TZOFFSETFROM:-0400
TZOFFSETTO:-0500
TZNAME:EST
DTSTART:20151101T060000
END:STANDARD
END:VTIMEZONE
BEGIN:VEVENT
DTSTART;TZID=America/Toronto:20151124T090000
DTEND;TZID=America/Toronto:20151124T150000
DTSTAMP:20260420T102107
CREATED:20150929T194126Z
LAST-MODIFIED:20151103T143721Z
UID:13762-1448355600-1448377200@old.hdch.org
SUMMARY:Exceler8
DESCRIPTION:Don’t miss out!\nJoin us for an exciting\, fast-paced high school experience. Meet students from other schools\, enjoy games and large-group activities and try our some Grade 9 courses. Snacks and a hot lunch are on us! \nStudents are invited to join us from 9 am – 3 pm. \n\nParents\nParents please join us for an information evening to discover more about student life at Hamilton District Christian High.\n7:30 pm – 9 pm \n 
URL:https://old.hdch.org/event/exceler8/
LOCATION:Hamilton District Christian High\, 92 Glancaster Road\, Ancaster\, Ontario\, L9G3K9\, Canada
ATTACH;FMTTYPE=image/png:https://old.hdch.org/wp-content/uploads/2015/09/Exceler8.png
END:VEVENT
END:VCALENDAR