BEGIN:VCALENDAR
VERSION:2.0
PRODID:-//Hamilton District Christian High School - ECPv5.12.4//NONSGML v1.0//EN
CALSCALE:GREGORIAN
METHOD:PUBLISH
X-WR-CALNAME:Hamilton District Christian High School
X-ORIGINAL-URL:https://old.hdch.org
X-WR-CALDESC:Events for Hamilton District Christian High School
BEGIN:VTIMEZONE
TZID:America/Toronto
BEGIN:DAYLIGHT
TZOFFSETFROM:-0500
TZOFFSETTO:-0400
TZNAME:EDT
DTSTART:20160313T070000
END:DAYLIGHT
BEGIN:STANDARD
TZOFFSETFROM:-0400
TZOFFSETTO:-0500
TZNAME:EST
DTSTART:20161106T060000
END:STANDARD
END:VTIMEZONE
BEGIN:VEVENT
DTSTART;TZID=America/Toronto:20160604T100000
DTEND;TZID=America/Toronto:20160604T150000
DTSTAMP:20260422T060355
CREATED:20160531T150837Z
LAST-MODIFIED:20160531T151326Z
UID:15708-1465034400-1465052400@old.hdch.org
SUMMARY:e-Waste Collection
DESCRIPTION:Bring us your e-Waste Collection\nHamilton District Christian High will be hosting an e-waste collection day. Got old unwanted electronics? Please bring it to us so that it can be properly recycled. Let’s help prevent more waste from going into landfill. There is still a lot of usable materials that can be taken from them and used in new electronics. \nWe will be accepting anything with a plug including: \n\ncomputers\nlaptops\nmicrowaves\nmore\n\nas well as … \n\nink cartridges\nbatteries\nlight bulbs\n\nJoin us for a free barbecue. Hope to see you here! \n\n 
URL:https://old.hdch.org/event/e-waste-collection/
LOCATION:Hamilton District Christian High\, 92 Glancaster Road\, Ancaster\, Ontario\, L9G3K9\, Canada
ATTACH;FMTTYPE=image/jpeg:https://old.hdch.org/wp-content/uploads/2015/07/ewaste.jpg
ORGANIZER;CN="Harry%20Blyleven":MAILTO:hblyleven@hdch.org
END:VEVENT
END:VCALENDAR