BEGIN:VCALENDAR
VERSION:2.0
PRODID:-//Hamilton District Christian High School - ECPv5.12.4//NONSGML v1.0//EN
CALSCALE:GREGORIAN
METHOD:PUBLISH
X-WR-CALNAME:Hamilton District Christian High School
X-ORIGINAL-URL:https://old.hdch.org
X-WR-CALDESC:Events for Hamilton District Christian High School
BEGIN:VTIMEZONE
TZID:America/Toronto
BEGIN:DAYLIGHT
TZOFFSETFROM:-0500
TZOFFSETTO:-0400
TZNAME:EDT
DTSTART:20190310T070000
END:DAYLIGHT
BEGIN:STANDARD
TZOFFSETFROM:-0400
TZOFFSETTO:-0500
TZNAME:EST
DTSTART:20191103T060000
END:STANDARD
END:VTIMEZONE
BEGIN:VEVENT
DTSTART;TZID=America/Toronto:20190916T193000
DTEND;TZID=America/Toronto:20190916T210000
DTSTAMP:20260424T122504
CREATED:20190909T150526Z
LAST-MODIFIED:20190916T171341Z
UID:53978-1568662200-1568667600@old.hdch.org
SUMMARY:Community Forum
DESCRIPTION:Feasibility Study Introduction\nHamilton District Christian High has embarked on a Fundraising Feasibility Study. The study is designed to gather valuable information from HDCH’s donors\, alumni and parents of students and will help us determine our school’s ability to raise funds for our Campus Renewal Plan. We have retained M&M International\, an independent consulting firm\, to conduct a completely confidential Feasibility Study on our behalf. \nJoin the conversation\nTo make this Study as inclusive as possible\, M & M International will host an Open Forum at our school. This is an opportunity for parents and supporters of HDCH to listen to the updated plans for our Campus Renewal and provide their feedback. Participants will be asked to complete a short questionnaire and there will be an opportunity to ask questions during the forum. \nBring your questions\, and join us for an informative discussion. Join us in the cafeteria. Refreshments will be provided.
URL:https://old.hdch.org/event/community-forum/
LOCATION:Hamilton District Christian High\, 92 Glancaster Road\, Ancaster\, Ontario\, L9G3K9\, Canada
ATTACH;FMTTYPE=image/jpeg:https://old.hdch.org/wp-content/uploads/2019/09/Forum.jpg
END:VEVENT
END:VCALENDAR