BEGIN:VCALENDAR
VERSION:2.0
PRODID:-//Hamilton District Christian High School - ECPv5.12.4//NONSGML v1.0//EN
CALSCALE:GREGORIAN
METHOD:PUBLISH
X-WR-CALNAME:Hamilton District Christian High School
X-ORIGINAL-URL:https://old.hdch.org
X-WR-CALDESC:Events for Hamilton District Christian High School
BEGIN:VTIMEZONE
TZID:America/Toronto
BEGIN:DAYLIGHT
TZOFFSETFROM:-0500
TZOFFSETTO:-0400
TZNAME:EDT
DTSTART:20190310T070000
END:DAYLIGHT
BEGIN:STANDARD
TZOFFSETFROM:-0400
TZOFFSETTO:-0500
TZNAME:EST
DTSTART:20191103T060000
END:STANDARD
END:VTIMEZONE
BEGIN:VEVENT
DTSTART;TZID=America/Toronto:20191212T190000
DTEND;TZID=America/Toronto:20191212T210000
DTSTAMP:20260422T043141
CREATED:20190705T141317Z
LAST-MODIFIED:20191209T163342Z
UID:14774-1576177200-1576184400@old.hdch.org
SUMMARY:Christmas Concert
DESCRIPTION:Join us at the Christmas Concert for a celebration of our Lord’s birth!\n \nThis Night \nAttention Parents\, Grandparents\, Friends and Family – Please join Hamilton District Christian High’s community for the celebration of our Lord’s birth on December 12th@ 7:00 pm \nSo many of our students will be involved including: \n\nMusic Classes\nMusic Ensembles\nChoir\nVocals Class\nPraise Teams\n\n\nAs always\, the refreshments will be delicious. \nCome and rejoice with us\n 
URL:https://old.hdch.org/event/christmas-concert/
LOCATION:Hamilton District Christian High\, 92 Glancaster Road\, Ancaster\, Ontario\, L9G3K9\, Canada
ATTACH;FMTTYPE=image/jpeg:https://old.hdch.org/wp-content/uploads/2019/08/ChristmasConcert.jpg
END:VEVENT
END:VCALENDAR