BEGIN:VCALENDAR
VERSION:2.0
PRODID:-//Hamilton District Christian High School - ECPv5.12.4//NONSGML v1.0//EN
CALSCALE:GREGORIAN
METHOD:PUBLISH
X-WR-CALNAME:Hamilton District Christian High School
X-ORIGINAL-URL:https://old.hdch.org
X-WR-CALDESC:Events for Hamilton District Christian High School
BEGIN:VTIMEZONE
TZID:America/Toronto
BEGIN:DAYLIGHT
TZOFFSETFROM:-0500
TZOFFSETTO:-0400
TZNAME:EDT
DTSTART:20200308T070000
END:DAYLIGHT
BEGIN:STANDARD
TZOFFSETFROM:-0400
TZOFFSETTO:-0500
TZNAME:EST
DTSTART:20201101T060000
END:STANDARD
END:VTIMEZONE
BEGIN:VEVENT
DTSTART;TZID=America/Toronto:20200109T190000
DTEND;TZID=America/Toronto:20200109T210000
DTSTAMP:20260422T024925
CREATED:20190716T150700Z
LAST-MODIFIED:20190801T154153Z
UID:16128-1578596400-1578603600@old.hdch.org
SUMMARY:Celebration of Learning
DESCRIPTION:Join us to Celebrate Learning at this Open House event featuring beautiful works from students over the last semester at Hamilton District Christian High.\nInteract with our students\, sample delicious snacks\, enjoy interesting projects\, engage with inspiring performances and celebrate learning. \nThis January\, we will enjoy and give feedback on some of the learning that has happened at Hamilton District Christian High over the last semester. There will be presentations\, performances\, displays\, and discussions all around the school. HDCH students are working very hard this semester and they are ready to share with you what they have learned. \nThe purpose of the evening is for students to share and celebrate learning with others. We want them to be able to communicate and demonstrate their learning to a wider audience than just their teachers or classmates. We want parents and experts to come and see what a tremendous job the students of HDCH are doing. The feedback that you give them will be essential to deepening the learning that has already happened. So please\, engage with the students as you wander around and Celebrate the Learning. \nThe whole family is welcome. Admission is free!
URL:https://old.hdch.org/event/celebration-of-learning-2/
LOCATION:Hamilton District Christian High\, 92 Glancaster Road\, Ancaster\, Ontario\, L9G3K9\, Canada
ATTACH;FMTTYPE=image/jpeg:https://old.hdch.org/wp-content/uploads/2019/08/COL_Winter.jpg
END:VEVENT
END:VCALENDAR