BEGIN:VCALENDAR
VERSION:2.0
PRODID:-//Hamilton District Christian High School - ECPv5.12.4//NONSGML v1.0//EN
CALSCALE:GREGORIAN
METHOD:PUBLISH
X-WR-CALNAME:Hamilton District Christian High School
X-ORIGINAL-URL:https://old.hdch.org
X-WR-CALDESC:Events for Hamilton District Christian High School
BEGIN:VTIMEZONE
TZID:America/Toronto
BEGIN:DAYLIGHT
TZOFFSETFROM:-0500
TZOFFSETTO:-0400
TZNAME:EDT
DTSTART:20190310T070000
END:DAYLIGHT
BEGIN:STANDARD
TZOFFSETFROM:-0400
TZOFFSETTO:-0500
TZNAME:EST
DTSTART:20191103T060000
END:STANDARD
END:VTIMEZONE
BEGIN:VEVENT
DTSTART;TZID=America/Toronto:20190205T081500
DTEND;TZID=America/Toronto:20190205T091500
DTSTAMP:20260425T193920
CREATED:20190109T152334Z
LAST-MODIFIED:20190109T190826Z
UID:44908-1549354500-1549358100@old.hdch.org
SUMMARY:Campus Conversations
DESCRIPTION:Please join us\nAll parents and community members are invited. On several mornings (and one afternoon) this winter\, our principal Nathan Siebenga\, will be meeting with small groups of parents\, alumni\, and community members to hear your thoughts and questions about the proposed Campus Renewal project\, and to share more about this exciting vision for HDCH’s future. \nEach session is limited to 10 guests in order to facilitate good dialogue and time for all your questions. We hope you’ll join us in the HDCH Cafeteria on one of the following dates for coffee\, continental breakfast\, and Campus Conversation. \n\nMorning Conversations ~ 8:15 am – 9:15 am\nJanuary 31; February 5\, 12 and 20; and March 6. \nAfternoon Conversations ~ 3:30-4:30 pm\nFebruary 28. \nPlease choose a date that is convenient for you and RSVP below today or contact our office at 905-648-6655.
URL:https://old.hdch.org/event/campus-conversations-2/
LOCATION:Hamilton District Christian High\, 92 Glancaster Road\, Ancaster\, Ontario\, L9G3K9\, Canada
ATTACH;FMTTYPE=image/jpeg:https://old.hdch.org/wp-content/uploads/2019/01/HDCH_Mugs.jpg
END:VEVENT
END:VCALENDAR