BEGIN:VCALENDAR
VERSION:2.0
PRODID:-//Hamilton District Christian High School - ECPv5.12.4//NONSGML v1.0//EN
CALSCALE:GREGORIAN
METHOD:PUBLISH
X-WR-CALNAME:Hamilton District Christian High School
X-ORIGINAL-URL:https://old.hdch.org
X-WR-CALDESC:Events for Hamilton District Christian High School
BEGIN:VTIMEZONE
TZID:America/Toronto
BEGIN:DAYLIGHT
TZOFFSETFROM:-0500
TZOFFSETTO:-0400
TZNAME:EDT
DTSTART:20190310T070000
END:DAYLIGHT
BEGIN:STANDARD
TZOFFSETFROM:-0400
TZOFFSETTO:-0500
TZNAME:EST
DTSTART:20191103T060000
END:STANDARD
END:VTIMEZONE
BEGIN:VEVENT
DTSTART;TZID=America/Toronto:20190604T190000
DTEND;TZID=America/Toronto:20190604T200000
DTSTAMP:20260424T205049
CREATED:20190509T181730Z
LAST-MODIFIED:20190510T125342Z
UID:44934-1559674800-1559678400@old.hdch.org
SUMMARY:Campus Conversation
DESCRIPTION:Please join us for Coffee & Conversation\nAll parents and community members are invited. \nOur principal Nathan Siebenga will be meeting with small groups of parents\, alumni\, and community members to hear your thoughts and questions about the proposed Campus Renewal project\, and to share more about this exciting vision for HDCH’s future. \nEach session is limited to 10 guests in order to facilitate good dialogue and time for all your questions. We hope you’ll join us in the HDCH Cafeteria on one of the following dates for coffee\, snacks\, and Campus Conversation. \n\nMorning Conversations ~ 4:00 pm\nMay 22\, May 29 \nAfternoon Conversations ~ 7:00 pm\nJune 4 ~ 7:00 pm \nPlease choose a date that is convenient for you and RSVP below today or contact Tina VanDyk at 905-648-6655 x 110.
URL:https://old.hdch.org/event/campus-conversation0604/
LOCATION:Hamilton District Christian High\, 92 Glancaster Road\, Ancaster\, Ontario\, L9G3K9\, Canada
ATTACH;FMTTYPE=image/jpeg:https://old.hdch.org/wp-content/uploads/2019/01/HDCH_Mugs.jpg
END:VEVENT
END:VCALENDAR