BEGIN:VCALENDAR
VERSION:2.0
PRODID:-//Hamilton District Christian High School - ECPv5.12.4//NONSGML v1.0//EN
CALSCALE:GREGORIAN
METHOD:PUBLISH
X-WR-CALNAME:Hamilton District Christian High School
X-ORIGINAL-URL:https://old.hdch.org
X-WR-CALDESC:Events for Hamilton District Christian High School
BEGIN:VTIMEZONE
TZID:America/Toronto
BEGIN:DAYLIGHT
TZOFFSETFROM:-0500
TZOFFSETTO:-0400
TZNAME:EDT
DTSTART:20200308T070000
END:DAYLIGHT
BEGIN:STANDARD
TZOFFSETFROM:-0400
TZOFFSETTO:-0500
TZNAME:EST
DTSTART:20201101T060000
END:STANDARD
END:VTIMEZONE
BEGIN:VEVENT
DTSTART;TZID=America/Toronto:20200117T180000
DTEND;TZID=America/Toronto:20200117T220000
DTSTAMP:20260422T043553
CREATED:20191202T155333Z
LAST-MODIFIED:20191204T143859Z
UID:16122-1579284000-1579298400@old.hdch.org
SUMMARY:Alumni Basketball
DESCRIPTION:Men’s Alumni 3-on-3 Basketball Tournament\nLast year was a blast\, so we are excited to host the annual Hamilton District Christian High Alumni 3-on-3 Men’s Basketball Tournament! Get some friends together\, make a team\, and get ready for some great fun. \nWe have room for a maximum of 16 teams\, so don’t delay!\nTournament Details \n\nMust have at least one HDCH Alumnus on your team.\nPlayers must be high school age or older.\n\nStart time is 6:00 p.m. \nRegister Your Team\n\nWinners get T-shirts! Proceeds go toward new HDCH Team Uniforms
URL:https://old.hdch.org/event/alumni-basketball/
LOCATION:Hamilton District Christian High\, 92 Glancaster Road\, Ancaster\, Ontario\, L9G3K9\, Canada
ATTACH;FMTTYPE=image/jpeg:https://old.hdch.org/wp-content/uploads/2016/12/AlumniBBAll.jpg
ORGANIZER;CN="Brad%20Heidbuurt":MAILTO:bheidbuurt@hdch.org
END:VEVENT
END:VCALENDAR