BEGIN:VCALENDAR
VERSION:2.0
PRODID:-//Hamilton District Christian High School - ECPv5.12.4//NONSGML v1.0//EN
CALSCALE:GREGORIAN
METHOD:PUBLISH
X-WR-CALNAME:Hamilton District Christian High School
X-ORIGINAL-URL:https://old.hdch.org
X-WR-CALDESC:Events for Hamilton District Christian High School
BEGIN:VTIMEZONE
TZID:America/Toronto
BEGIN:DAYLIGHT
TZOFFSETFROM:-0500
TZOFFSETTO:-0400
TZNAME:EDT
DTSTART:20190310T070000
END:DAYLIGHT
BEGIN:STANDARD
TZOFFSETFROM:-0400
TZOFFSETTO:-0500
TZNAME:EST
DTSTART:20191103T060000
END:STANDARD
END:VTIMEZONE
BEGIN:VEVENT
DTSTART;TZID=America/Toronto:20190606T080000
DTEND;TZID=America/Toronto:20190609T170000
DTSTAMP:20260424T191312
CREATED:20190430T155317Z
LAST-MODIFIED:20190608T153040Z
UID:49848-1559808000-1560099600@old.hdch.org
SUMMARY:2019 OFSAA Soccer
DESCRIPTION:Hamilton District Christian High is proud to host the 2019 OFSAA Girls A Soccer and OFSAA Boys A Soccer.  \nStudent-athletes from across the province of Ontario will represent their school and compete in hopes of winning the OFSAA championship. \nWe host OFSAA for two reasons. First\, hosting provides our young HDCH athletes with the opportunity to develop sportsmanship and community. Second\, hosting allows us to share HDCH’s generous hospitality and commitment to excellence with people from all over the province. \nWe would love to see you – we hope you’ll come out and join us in encouraging the OFSAA athletes and cheering for HDCH! \nSchedules\, standings\, and other information\nPlease refer to the OFSAA Websites:\nBoys A Soccer >>\nGirls A Soccer >> \n\nTournament Program\n\n\nFundraising\nOFSAA is a large undertaking that involves 45 coaches\, many volunteers\, and 800 soccer players from all over Ontario. We’ll also be welcoming spectators including parents\, grandparents and other community members. \nAs alumni and parents and a part of our support community\, we invite you to participate in this terrific event. Below are some ways you can help ensure that OFSAA is a success for all involved. \nThe below links will take you to a secure site for donations.
URL:https://old.hdch.org/event/2019-ofsaa-soccer/
LOCATION:Hamilton District Christian High\, 92 Glancaster Road\, Ancaster\, Ontario\, L9G3K9\, Canada
ATTACH;FMTTYPE=image/jpeg:https://old.hdch.org/wp-content/uploads/2019/04/OFSAA_Blend.jpg
ORGANIZER;CN="Brad%20Heidbuurt":MAILTO:bheidbuurt@hdch.org
END:VEVENT
END:VCALENDAR