BEGIN:VCALENDAR
VERSION:2.0
PRODID:-//Hamilton District Christian High School - ECPv5.12.4//NONSGML v1.0//EN
CALSCALE:GREGORIAN
METHOD:PUBLISH
X-WR-CALNAME:Hamilton District Christian High School
X-ORIGINAL-URL:https://old.hdch.org
X-WR-CALDESC:Events for Hamilton District Christian High School
BEGIN:VTIMEZONE
TZID:America/Toronto
BEGIN:DAYLIGHT
TZOFFSETFROM:-0500
TZOFFSETTO:-0400
TZNAME:EDT
DTSTART:20160313T070000
END:DAYLIGHT
BEGIN:STANDARD
TZOFFSETFROM:-0400
TZOFFSETTO:-0500
TZNAME:EST
DTSTART:20161106T060000
END:STANDARD
END:VTIMEZONE
BEGIN:VEVENT
DTSTART;TZID=America/Toronto:20160519T193000
DTEND;TZID=America/Toronto:20160519T210000
DTSTAMP:20260424T044519
CREATED:20160517T160452Z
LAST-MODIFIED:20160517T162913Z
UID:15663-1463686200-1463691600@old.hdch.org
SUMMARY:Music Tour Concert
DESCRIPTION:Join us for the Hamilton District Christian School Music Tour concert.\nEvery other year all extra-curricular music program students at Hamilton District Christian High venture off to a city to share their musicality\, service\, and culture on a music tour. \nIn 2016\, 80 students and 8 chaperones are off to Chicago from May 25 – 28. We invite you to join us  for a farewell concert for all four ensembles: \n\nconcert band\nchamber ensemble\nworship team\nchoir\nbarbershop quartet\npiano quartet\n\nThe evening will serve as an opportunity for students to practice setting up for concerts in Chicago\, as well as a concert for family and friends. We look forward to seeing you! \nAdmission is free!
URL:https://old.hdch.org/event/2016-music-tour-concert/
LOCATION:Hamilton District Christian High\, 92 Glancaster Road\, Ancaster\, Ontario\, L9G3K9\, Canada
ATTACH;FMTTYPE=image/jpeg:https://old.hdch.org/wp-content/uploads/2016/04/Choral2.jpg
ORGANIZER;CN="Kasia%20Konstanty":MAILTO:kkonstanty@hdch.org
END:VEVENT
END:VCALENDAR